BEGIN:VCALENDAR
VERSION:2.0
PRODID:-//Stormwater University - ECPv6.15.20//NONSGML v1.0//EN
CALSCALE:GREGORIAN
METHOD:PUBLISH
X-WR-CALNAME:Stormwater University
X-ORIGINAL-URL:https://stormwateruniv.com
X-WR-CALDESC:Events for Stormwater University
REFRESH-INTERVAL;VALUE=DURATION:PT1H
X-Robots-Tag:noindex
X-PUBLISHED-TTL:PT1H
BEGIN:VTIMEZONE
TZID:America/Chicago
BEGIN:DAYLIGHT
TZOFFSETFROM:-0600
TZOFFSETTO:-0500
TZNAME:CDT
DTSTART:20230312T080000
END:DAYLIGHT
BEGIN:STANDARD
TZOFFSETFROM:-0500
TZOFFSETTO:-0600
TZNAME:CST
DTSTART:20231105T070000
END:STANDARD
BEGIN:DAYLIGHT
TZOFFSETFROM:-0600
TZOFFSETTO:-0500
TZNAME:CDT
DTSTART:20240310T080000
END:DAYLIGHT
BEGIN:STANDARD
TZOFFSETFROM:-0500
TZOFFSETTO:-0600
TZNAME:CST
DTSTART:20241103T070000
END:STANDARD
BEGIN:DAYLIGHT
TZOFFSETFROM:-0600
TZOFFSETTO:-0500
TZNAME:CDT
DTSTART:20250309T080000
END:DAYLIGHT
BEGIN:STANDARD
TZOFFSETFROM:-0500
TZOFFSETTO:-0600
TZNAME:CST
DTSTART:20251102T070000
END:STANDARD
END:VTIMEZONE
BEGIN:VEVENT
DTSTART;TZID=America/Chicago:20240417T130000
DTEND;TZID=America/Chicago:20240417T140000
DTSTAMP:20260423T115928
CREATED:20240401T173711Z
LAST-MODIFIED:20240401T173838Z
UID:28989-1713358800-1713362400@stormwateruniv.com
SUMMARY:How does green stormwater infrastructure really work? Improving design through monitoring
DESCRIPTION:Date: April 17\, 2024 |  | 2:00 PM EST/1:00 PM CST\nSpeakers: Dr. Andrew Earles\, P.E.\, P.H.\, BC.WRE\, Stacy Wilson\, and Matthew Howard\nCredits: 0.1 CEU / 1.0 PDH\nSponsors: Presto Geo\, Contech Engineered Solutions\, Ferguson Waterworks\, Unilock \nFREE WEBINAR | April 17\, 2024 | This webinar will provide an overview of GSI practices and performance data in the International Stormwater BMP Database and will present two case studies of GSI monitoring. \nREGISTER FOR FREE
URL:https://stormwateruniv.com/event/how-does-green-stormwater-infrastructure-really-work-improving-design-through-monitoring/
LOCATION:MN
END:VEVENT
END:VCALENDAR