BEGIN:VCALENDAR
VERSION:2.0
PRODID:-//Stormwater University - ECPv6.15.20//NONSGML v1.0//EN
CALSCALE:GREGORIAN
METHOD:PUBLISH
X-ORIGINAL-URL:https://stormwateruniv.com
X-WR-CALDESC:Events for Stormwater University
REFRESH-INTERVAL;VALUE=DURATION:PT1H
X-Robots-Tag:noindex
X-PUBLISHED-TTL:PT1H
BEGIN:VTIMEZONE
TZID:America/Chicago
BEGIN:DAYLIGHT
TZOFFSETFROM:-0600
TZOFFSETTO:-0500
TZNAME:CDT
DTSTART:20220313T080000
END:DAYLIGHT
BEGIN:STANDARD
TZOFFSETFROM:-0500
TZOFFSETTO:-0600
TZNAME:CST
DTSTART:20221106T070000
END:STANDARD
BEGIN:DAYLIGHT
TZOFFSETFROM:-0600
TZOFFSETTO:-0500
TZNAME:CDT
DTSTART:20230312T080000
END:DAYLIGHT
BEGIN:STANDARD
TZOFFSETFROM:-0500
TZOFFSETTO:-0600
TZNAME:CST
DTSTART:20231105T070000
END:STANDARD
BEGIN:DAYLIGHT
TZOFFSETFROM:-0600
TZOFFSETTO:-0500
TZNAME:CDT
DTSTART:20240310T080000
END:DAYLIGHT
BEGIN:STANDARD
TZOFFSETFROM:-0500
TZOFFSETTO:-0600
TZNAME:CST
DTSTART:20241103T070000
END:STANDARD
END:VTIMEZONE
BEGIN:VEVENT
DTSTART;TZID=America/Chicago:20231206T130000
DTEND;TZID=America/Chicago:20231206T140000
DTSTAMP:20260423T192803
CREATED:20231115T191706Z
LAST-MODIFIED:20231115T191706Z
UID:27958-1701867600-1701871200@stormwateruniv.com
SUMMARY:Webinar: Stormwater Infrastructure Operations and Maintenance
DESCRIPTION:FREE WEBINAR! December 6\, 2023 | 2:00 PM EST/1:00 PM CST | A review of the most common repair calls and the various causes for corrective maintenance\, repairs\, and rehabilitation. (1.0 PDH/0.1 CEU)
URL:https://stormwateruniv.com/event/webinar-stormwater-infrastructure-operations-and-maintenance/
LOCATION:MN
END:VEVENT
BEGIN:VEVENT
DTSTART;TZID=America/Chicago:20231212T130000
DTEND;TZID=America/Chicago:20231212T140000
DTSTAMP:20260423T192803
CREATED:20231115T191849Z
LAST-MODIFIED:20231115T191849Z
UID:27961-1702386000-1702389600@stormwateruniv.com
SUMMARY:Webinar: Tiny Plastics with a Big Impact: Exploring the Connection Between Microplastics and Trash in Stormwater BMPs
DESCRIPTION:FREE WEBINAR | DECEMBER 12\, 2023 | This webinar will explore the latest research and regulations on plastic trash and secondary microplastics in our receiving waters\, including their sources\, transport and removal in proprietary and non-proprietary BMPs.
URL:https://stormwateruniv.com/event/webinar-tiny-plastics-with-a-big-impact-exploring-the-connection-between-microplastics-and-trash-in-stormwater-bmps/
LOCATION:MN
END:VEVENT
END:VCALENDAR