BEGIN:VCALENDAR
VERSION:2.0
PRODID:-//Stormwater University - ECPv6.15.18//NONSGML v1.0//EN
CALSCALE:GREGORIAN
METHOD:PUBLISH
X-WR-CALNAME:Stormwater University
X-ORIGINAL-URL:https://stormwateruniv.com
X-WR-CALDESC:Events for Stormwater University
REFRESH-INTERVAL;VALUE=DURATION:PT1H
X-Robots-Tag:noindex
X-PUBLISHED-TTL:PT1H
BEGIN:VTIMEZONE
TZID:America/Chicago
BEGIN:DAYLIGHT
TZOFFSETFROM:-0600
TZOFFSETTO:-0500
TZNAME:CDT
DTSTART:20240310T080000
END:DAYLIGHT
BEGIN:STANDARD
TZOFFSETFROM:-0500
TZOFFSETTO:-0600
TZNAME:CST
DTSTART:20241103T070000
END:STANDARD
BEGIN:DAYLIGHT
TZOFFSETFROM:-0600
TZOFFSETTO:-0500
TZNAME:CDT
DTSTART:20250309T080000
END:DAYLIGHT
BEGIN:STANDARD
TZOFFSETFROM:-0500
TZOFFSETTO:-0600
TZNAME:CST
DTSTART:20251102T070000
END:STANDARD
BEGIN:DAYLIGHT
TZOFFSETFROM:-0600
TZOFFSETTO:-0500
TZNAME:CDT
DTSTART:20260308T080000
END:DAYLIGHT
BEGIN:STANDARD
TZOFFSETFROM:-0500
TZOFFSETTO:-0600
TZNAME:CST
DTSTART:20261101T070000
END:STANDARD
BEGIN:DAYLIGHT
TZOFFSETFROM:-0600
TZOFFSETTO:-0500
TZNAME:CDT
DTSTART:20270314T080000
END:DAYLIGHT
BEGIN:STANDARD
TZOFFSETFROM:-0500
TZOFFSETTO:-0600
TZNAME:CST
DTSTART:20271107T070000
END:STANDARD
END:VTIMEZONE
BEGIN:VEVENT
DTSTART;TZID=America/Chicago:20251217T130000
DTEND;TZID=America/Chicago:20251217T140000
DTSTAMP:20260420T211209
CREATED:20251120T192929Z
LAST-MODIFIED:20251120T192929Z
UID:33325-1765976400-1765980000@stormwateruniv.com
SUMMARY:Essential Elements of Improving Water Quality: Getting Post-Construction SCMs Right
DESCRIPTION:LIVE WEBINAR | DECEMBER 17\, 2025 | In this webinar\, we will cover the regulatory framework\, selection and design considerations\, and performance verification requirements that support effective implementation of structural stormwater control measures—especially innovative manufactured treatment devices—to help permittees meet post-construction water quality goals.
URL:https://stormwateruniv.com/event/essential-elements-of-improving-water-quality-getting-post-construction-scms-right/
LOCATION:MN
END:VEVENT
BEGIN:VEVENT
DTSTART;TZID=America/Chicago:20260326T130000
DTEND;TZID=America/Chicago:20260326T140000
DTSTAMP:20260420T211209
CREATED:20260317T172847Z
LAST-MODIFIED:20260317T173320Z
UID:33680-1774530000-1774533600@stormwateruniv.com
SUMMARY:Resilience Restored: Improving Levee Interior Drainage After a Flood Disaster
DESCRIPTION:LIVE WEBINAR | MARCH 26\, 2026 | This webinar explores how Fort Bend County Levee Improvement District No. 2 strengthened its flood resilience after Hurricane Harvey through an $88 million drainage improvement program\, offering practical guidance on modeling\, prioritizing solutions\, stakeholder coordination\, and long-term mitigation planning for levee-protected communities. (1.0 PDH | 0.1 CEU)
URL:https://stormwateruniv.com/event/resilience-restored-improving-levee-interior-drainage-after-a-flood-disaster/
LOCATION:MN
END:VEVENT
BEGIN:VEVENT
DTSTART;VALUE=DATE:20260825
DTEND;VALUE=DATE:20260828
DTSTAMP:20260420T211209
CREATED:20260317T173226Z
LAST-MODIFIED:20260317T173226Z
UID:33682-1787616000-1787875199@stormwateruniv.com
SUMMARY:StormCon 2026
DESCRIPTION:Welcome to the stormwater industry’s premier event connecting stormwater managers\, erosion control specialists\, and engineers from around North America. We bring together attendees from around the country for idea-sharing\, information exchange\, and networking. Featuring a multi-track conference program led by top leaders in the industry\, StormCon provides exceptional opportunities to learn\, engage and build key contacts.
URL:https://stormwateruniv.com/event/stormcon-2026/
LOCATION:Minneapolis Convention Center\, Minneapolis\, MN\, United States
END:VEVENT
END:VCALENDAR