BEGIN:VCALENDAR
VERSION:2.0
PRODID:-//Stormwater University - ECPv6.15.18//NONSGML v1.0//EN
CALSCALE:GREGORIAN
METHOD:PUBLISH
X-ORIGINAL-URL:https://stormwateruniv.com
X-WR-CALDESC:Events for Stormwater University
REFRESH-INTERVAL;VALUE=DURATION:PT1H
X-Robots-Tag:noindex
X-PUBLISHED-TTL:PT1H
BEGIN:VTIMEZONE
TZID:America/Chicago
BEGIN:DAYLIGHT
TZOFFSETFROM:-0600
TZOFFSETTO:-0500
TZNAME:CDT
DTSTART:20230312T080000
END:DAYLIGHT
BEGIN:STANDARD
TZOFFSETFROM:-0500
TZOFFSETTO:-0600
TZNAME:CST
DTSTART:20231105T070000
END:STANDARD
BEGIN:DAYLIGHT
TZOFFSETFROM:-0600
TZOFFSETTO:-0500
TZNAME:CDT
DTSTART:20240310T080000
END:DAYLIGHT
BEGIN:STANDARD
TZOFFSETFROM:-0500
TZOFFSETTO:-0600
TZNAME:CST
DTSTART:20241103T070000
END:STANDARD
BEGIN:DAYLIGHT
TZOFFSETFROM:-0600
TZOFFSETTO:-0500
TZNAME:CDT
DTSTART:20250309T080000
END:DAYLIGHT
BEGIN:STANDARD
TZOFFSETFROM:-0500
TZOFFSETTO:-0600
TZNAME:CST
DTSTART:20251102T070000
END:STANDARD
END:VTIMEZONE
BEGIN:VEVENT
DTSTART;VALUE=DATE:20240827
DTEND;VALUE=DATE:20240830
DTSTAMP:20260420T210723
CREATED:20240401T174216Z
LAST-MODIFIED:20240724T172835Z
UID:28996-1724716800-1724975999@stormwateruniv.com
SUMMARY:StormCon 2024
DESCRIPTION:Welcome to the stormwater industry’s premier event connecting stormwater managers\, erosion control specialists\, and engineers from around North America. We bring together attendees from around the country for idea-sharing\, information exchange\, and networking. Featuring a multi-track conference program led by top leaders in the industry\, StormCon provides exceptional opportunities to learn\, engage and build key contacts. \nPlan to join us in Reno\, NV\, for the StormCon conference! We have registration types for everyone so come learn\, network\, and join the fun on August 27-29\, 2024!
URL:https://stormwateruniv.com/event/stormcon-2024/
LOCATION:Grand Sierra Resort and Casino\, 2500 E 2nd St\, Reno\, NV\, 89595\, United States
CATEGORIES:Conference
END:VEVENT
END:VCALENDAR