BEGIN:VCALENDAR
VERSION:2.0
PRODID:-//Stormwater University - ECPv6.15.18//NONSGML v1.0//EN
CALSCALE:GREGORIAN
METHOD:PUBLISH
X-ORIGINAL-URL:https://stormwateruniv.com
X-WR-CALDESC:Events for Stormwater University
REFRESH-INTERVAL;VALUE=DURATION:PT1H
X-Robots-Tag:noindex
X-PUBLISHED-TTL:PT1H
BEGIN:VTIMEZONE
TZID:America/Chicago
BEGIN:DAYLIGHT
TZOFFSETFROM:-0600
TZOFFSETTO:-0500
TZNAME:CDT
DTSTART:20240310T080000
END:DAYLIGHT
BEGIN:STANDARD
TZOFFSETFROM:-0500
TZOFFSETTO:-0600
TZNAME:CST
DTSTART:20241103T070000
END:STANDARD
BEGIN:DAYLIGHT
TZOFFSETFROM:-0600
TZOFFSETTO:-0500
TZNAME:CDT
DTSTART:20250309T080000
END:DAYLIGHT
BEGIN:STANDARD
TZOFFSETFROM:-0500
TZOFFSETTO:-0600
TZNAME:CST
DTSTART:20251102T070000
END:STANDARD
BEGIN:DAYLIGHT
TZOFFSETFROM:-0600
TZOFFSETTO:-0500
TZNAME:CDT
DTSTART:20260308T080000
END:DAYLIGHT
BEGIN:STANDARD
TZOFFSETFROM:-0500
TZOFFSETTO:-0600
TZNAME:CST
DTSTART:20261101T070000
END:STANDARD
END:VTIMEZONE
BEGIN:VEVENT
DTSTART;TZID=America/Chicago:20251217T130000
DTEND;TZID=America/Chicago:20251217T140000
DTSTAMP:20260420T131533
CREATED:20251120T192929Z
LAST-MODIFIED:20251120T192929Z
UID:33325-1765976400-1765980000@stormwateruniv.com
SUMMARY:Essential Elements of Improving Water Quality: Getting Post-Construction SCMs Right
DESCRIPTION:LIVE WEBINAR | DECEMBER 17\, 2025 | In this webinar\, we will cover the regulatory framework\, selection and design considerations\, and performance verification requirements that support effective implementation of structural stormwater control measures—especially innovative manufactured treatment devices—to help permittees meet post-construction water quality goals.
URL:https://stormwateruniv.com/event/essential-elements-of-improving-water-quality-getting-post-construction-scms-right/
LOCATION:MN
END:VEVENT
END:VCALENDAR