BEGIN:VCALENDAR
VERSION:2.0
PRODID:-//Stormwater University - ECPv6.15.18//NONSGML v1.0//EN
CALSCALE:GREGORIAN
METHOD:PUBLISH
X-WR-CALNAME:Stormwater University
X-ORIGINAL-URL:https://stormwateruniv.com
X-WR-CALDESC:Events for Stormwater University
REFRESH-INTERVAL;VALUE=DURATION:PT1H
X-Robots-Tag:noindex
X-PUBLISHED-TTL:PT1H
BEGIN:VTIMEZONE
TZID:America/Chicago
BEGIN:DAYLIGHT
TZOFFSETFROM:-0600
TZOFFSETTO:-0500
TZNAME:CDT
DTSTART:20240310T080000
END:DAYLIGHT
BEGIN:STANDARD
TZOFFSETFROM:-0500
TZOFFSETTO:-0600
TZNAME:CST
DTSTART:20241103T070000
END:STANDARD
BEGIN:DAYLIGHT
TZOFFSETFROM:-0600
TZOFFSETTO:-0500
TZNAME:CDT
DTSTART:20250309T080000
END:DAYLIGHT
BEGIN:STANDARD
TZOFFSETFROM:-0500
TZOFFSETTO:-0600
TZNAME:CST
DTSTART:20251102T070000
END:STANDARD
BEGIN:DAYLIGHT
TZOFFSETFROM:-0600
TZOFFSETTO:-0500
TZNAME:CDT
DTSTART:20260308T080000
END:DAYLIGHT
BEGIN:STANDARD
TZOFFSETFROM:-0500
TZOFFSETTO:-0600
TZNAME:CST
DTSTART:20261101T070000
END:STANDARD
END:VTIMEZONE
BEGIN:VEVENT
DTSTART;TZID=America/Chicago:20251023T130000
DTEND;TZID=America/Chicago:20251023T140000
DTSTAMP:20260420T052802
CREATED:20250930T191253Z
LAST-MODIFIED:20250930T191253Z
UID:32877-1761224400-1761228000@stormwateruniv.com
SUMMARY:Live Webinar: Leveraging Biochar for Mainstream Stormwater Management
DESCRIPTION:The Center for Watershed Protection (CWP) is working to accelerate the use of biochar as an innovative tool for improving stormwater management in the Chesapeake Bay and beyond.\n\n \n\nThis presentation will highlight CWP’s role in the National Fish and Wildlife Foundation funded project\, Scaling Up Biochar in the Chesapeake Bay. Completed in Spring 2025\, the project advanced research and partnerships and supported pilot projects demonstrating biochar’s effectiveness in reducing runoff and pollutants. In collaboration with the U.S. Biochar Initiative (USBI)\, CWP is also developing a practical stormwater biochar guidebook to help practitioners\, municipalities\, and decision-makers understand best practices for biochar use in stormwater best management practices. This guidance is expected to be completed by November 2025. Attendees will learn about the benefits of biochar in stormwater and gain insights into the opportunities\, challenges\, and future directions for integrating biochar into mainstream stormwater management.
URL:https://stormwateruniv.com/event/live-webinar-leveraging-biochar-for-mainstream-stormwater-management/
LOCATION:MN
END:VEVENT
END:VCALENDAR