BEGIN:VCALENDAR
VERSION:2.0
PRODID:-//Stormwater University - ECPv6.15.20//NONSGML v1.0//EN
CALSCALE:GREGORIAN
METHOD:PUBLISH
X-WR-CALNAME:Stormwater University
X-ORIGINAL-URL:https://stormwateruniv.com
X-WR-CALDESC:Events for Stormwater University
REFRESH-INTERVAL;VALUE=DURATION:PT1H
X-Robots-Tag:noindex
X-PUBLISHED-TTL:PT1H
BEGIN:VTIMEZONE
TZID:America/Chicago
BEGIN:DAYLIGHT
TZOFFSETFROM:-0600
TZOFFSETTO:-0500
TZNAME:CDT
DTSTART:20220313T080000
END:DAYLIGHT
BEGIN:STANDARD
TZOFFSETFROM:-0500
TZOFFSETTO:-0600
TZNAME:CST
DTSTART:20221106T070000
END:STANDARD
BEGIN:DAYLIGHT
TZOFFSETFROM:-0600
TZOFFSETTO:-0500
TZNAME:CDT
DTSTART:20230312T080000
END:DAYLIGHT
BEGIN:STANDARD
TZOFFSETFROM:-0500
TZOFFSETTO:-0600
TZNAME:CST
DTSTART:20231105T070000
END:STANDARD
BEGIN:DAYLIGHT
TZOFFSETFROM:-0600
TZOFFSETTO:-0500
TZNAME:CDT
DTSTART:20240310T080000
END:DAYLIGHT
BEGIN:STANDARD
TZOFFSETFROM:-0500
TZOFFSETTO:-0600
TZNAME:CST
DTSTART:20241103T070000
END:STANDARD
END:VTIMEZONE
BEGIN:VEVENT
DTSTART;TZID=America/Chicago:20230523T130000
DTEND;TZID=America/Chicago:20230523T140000
DTSTAMP:20260424T114729
CREATED:20230503T175201Z
LAST-MODIFIED:20230503T175309Z
UID:26368-1684846800-1684850400@stormwateruniv.com
SUMMARY:Live Webinar: Refining the Indian River Lagoon Pollutant Loading Model
DESCRIPTION:A custom model of nutrient loadings to Florida’s Indian River Lagoon\, IRL\, was developed by three counties and 13 municipalities. Join Stormwater University speaker\, Gordon England\, on May 23rd\, 2023\, at 1:00 p.m. CST as he explains the Spatial Watershed Interactive Loading model\, SWIL\, used satellite data and current modeling methods to more accurately predict nutrient loadings in the IRL than the method utilized by EPA for TMDL allocations. The resultant nutrient load model reduced EPA’s projected TMDL loadings and BMAP requirements in a subsection of the IRL by 29\,000 pounds a year. This equated to an approximate reduction of $14\,400\,000 per year over 15 years of retrofit costs by local governments. This webinar will discuss SWIL demonstrated that groundwater baseflow loadings were higher than stormwater runoff loadings for the IRL and that EPA’s nutrient TMDL allocations were not achievable by runoff treatment alone.
URL:https://stormwateruniv.com/event/live-webinar-refining-the-indian-river-lagoon-pollutant-loading-model/
LOCATION:MN
END:VEVENT
END:VCALENDAR